BEGIN:VCALENDAR
VERSION:2.0
PRODID:-//Universiti Sains Islam Malaysia - ECPv5.16.3.1//NONSGML v1.0//EN
CALSCALE:GREGORIAN
METHOD:PUBLISH
X-WR-CALNAME:Universiti Sains Islam Malaysia
X-ORIGINAL-URL:https://www.usim.edu.my/ar/
X-WR-CALDESC:Events for Universiti Sains Islam Malaysia
BEGIN:VTIMEZONE
TZID:UTC
BEGIN:STANDARD
TZOFFSETFROM:+0000
TZOFFSETTO:+0000
TZNAME:UTC
DTSTART:20240101T000000
END:STANDARD
END:VTIMEZONE
BEGIN:VEVENT
DTSTART;TZID=UTC:20240918T120000
DTEND;TZID=UTC:20240918T140000
DTSTAMP:20260420T135758
CREATED:20240906T074840Z
LAST-MODIFIED:20240906T075710Z
UID:98415-1726660800-1726668000@www.usim.edu.my
SUMMARY:International Conference On Contemporary HALAL AND FATWA (ICCoHaF) 2024
DESCRIPTION:
URL:https://www.usim.edu.my/ar/event/international-conference-on-contemporary-halal-and-fatwa-iccohaf-2024/
LOCATION:Rajah Brooke Ballroom
CATEGORIES:Staff
END:VEVENT
END:VCALENDAR