BEGIN:VCALENDAR
VERSION:2.0
PRODID:-//Universiti Sains Islam Malaysia - ECPv5.16.3.1//NONSGML v1.0//EN
CALSCALE:GREGORIAN
METHOD:PUBLISH
X-WR-CALNAME:Universiti Sains Islam Malaysia
X-ORIGINAL-URL:https://www.usim.edu.my/ar/
X-WR-CALDESC:Events for Universiti Sains Islam Malaysia
BEGIN:VTIMEZONE
TZID:UTC
BEGIN:STANDARD
TZOFFSETFROM:+0000
TZOFFSETTO:+0000
TZNAME:UTC
DTSTART:20250101T000000
END:STANDARD
END:VTIMEZONE
BEGIN:VEVENT
DTSTART;TZID=UTC:20251014T150000
DTEND;TZID=UTC:20251014T163000
DTSTAMP:20260425T001354
CREATED:20250925T064208Z
LAST-MODIFIED:20250925T064340Z
UID:120894-1760454000-1760459400@www.usim.edu.my
SUMMARY:Majlis Menandatangani Memorandum Persefahaman (MOU) Antara Universiti Sains Islam Malaysia (USIM) Dan Securities Industry Development Corporation (SIDC)
DESCRIPTION:
URL:https://www.usim.edu.my/ar/event/majlis-menandatangani-memorandum-persefahaman-mou-antara-universiti-sains-islam-malaysia-usim-dan-securities-industry-development-corporation-sidc/
LOCATION:EXECUTIVE LOUNGE\,  ARAS 6\, BANGUNAN CANSELORI
CATEGORIES:Staff
END:VEVENT
END:VCALENDAR