BEGIN:VCALENDAR
VERSION:2.0
PRODID:-//Universiti Sains Islam Malaysia - ECPv5.16.3.1//NONSGML v1.0//EN
CALSCALE:GREGORIAN
METHOD:PUBLISH
X-WR-CALNAME:Universiti Sains Islam Malaysia
X-ORIGINAL-URL:https://www.usim.edu.my/ar/
X-WR-CALDESC:Events for Universiti Sains Islam Malaysia
BEGIN:VTIMEZONE
TZID:UTC
BEGIN:STANDARD
TZOFFSETFROM:+0000
TZOFFSETTO:+0000
TZNAME:UTC
DTSTART:20250101T000000
END:STANDARD
END:VTIMEZONE
BEGIN:VEVENT
DTSTART;TZID=UTC:20250108T170000
DTEND;TZID=UTC:20250108T180000
DTSTAMP:20260420T035226
CREATED:20250108T075409Z
LAST-MODIFIED:20250108T075409Z
UID:99821-1736355600-1736359200@www.usim.edu.my
SUMMARY:Majlis Perbarisan Badan Beruniform Bil 4 Semester 1\, Sesi Akademik 2024/2025
DESCRIPTION:
URL:https://www.usim.edu.my/ar/event/majlis-perbarisan-badan-beruniform-bil-4-semester-1-sesi-akademik-2024-2025/
LOCATION:Kompleks Sukan Tunku Najihah USIM
CATEGORIES:Staff,Student
END:VEVENT
END:VCALENDAR