BEGIN:VCALENDAR
VERSION:2.0
PRODID:-//Universiti Sains Islam Malaysia - ECPv5.16.3.1//NONSGML v1.0//EN
CALSCALE:GREGORIAN
METHOD:PUBLISH
X-WR-CALNAME:Universiti Sains Islam Malaysia
X-ORIGINAL-URL:https://www.usim.edu.my/ar/
X-WR-CALDESC:Events for Universiti Sains Islam Malaysia
BEGIN:VTIMEZONE
TZID:UTC
BEGIN:STANDARD
TZOFFSETFROM:+0000
TZOFFSETTO:+0000
TZNAME:UTC
DTSTART:20240101T000000
END:STANDARD
END:VTIMEZONE
BEGIN:VEVENT
DTSTART;TZID=UTC:20240913T080000
DTEND;TZID=UTC:20240913T093000
DTSTAMP:20260420T154817
CREATED:20240910T064158Z
LAST-MODIFIED:20240910T065147Z
UID:98439-1726214400-1726219800@www.usim.edu.my
SUMMARY:Majlis Perhimpunan Warga USIM Bersama Naib Canselor
DESCRIPTION:
URL:https://www.usim.edu.my/ar/event/majlis-perhimpunan-warga-usim-bersama-naib-canselor/
LOCATION:DATARAN CANSELORI\, USIM
CATEGORIES:Staff
END:VEVENT
END:VCALENDAR