BEGIN:VCALENDAR
VERSION:2.0
PRODID:-//Universiti Sains Islam Malaysia - ECPv5.16.3.1//NONSGML v1.0//EN
CALSCALE:GREGORIAN
METHOD:PUBLISH
X-WR-CALNAME:Universiti Sains Islam Malaysia
X-ORIGINAL-URL:https://www.usim.edu.my/ar/
X-WR-CALDESC:Events for Universiti Sains Islam Malaysia
BEGIN:VTIMEZONE
TZID:UTC
BEGIN:STANDARD
TZOFFSETFROM:+0000
TZOFFSETTO:+0000
TZNAME:UTC
DTSTART:20240101T000000
END:STANDARD
END:VTIMEZONE
BEGIN:VEVENT
DTSTART;TZID=UTC:20241010T200000
DTEND;TZID=UTC:20241010T223000
DTSTAMP:20260420T135758
CREATED:20241008T021328Z
LAST-MODIFIED:20241008T021503Z
UID:98682-1728590400-1728599400@www.usim.edu.my
SUMMARY:Program Malam Kemanusiaan Fakulti Kepimpinan Dan Pengurusan (FKP) 2024
DESCRIPTION:
URL:https://www.usim.edu.my/ar/event/program-malam-kemanusiaan-fakulti-kepimpinan-dan-pengurusan-fkp-2024/
LOCATION:Dewan Kuliah Fakulti (DKF 1.2) FKP
CATEGORIES:Staff,Student
END:VEVENT
END:VCALENDAR