BEGIN:VCALENDAR
VERSION:2.0
PRODID:-//Universiti Sains Islam Malaysia - ECPv5.16.3.1//NONSGML v1.0//EN
CALSCALE:GREGORIAN
METHOD:PUBLISH
X-WR-CALNAME:Universiti Sains Islam Malaysia
X-ORIGINAL-URL:https://www.usim.edu.my/ar/
X-WR-CALDESC:Events for Universiti Sains Islam Malaysia
BEGIN:VTIMEZONE
TZID:UTC
BEGIN:STANDARD
TZOFFSETFROM:+0000
TZOFFSETTO:+0000
TZNAME:UTC
DTSTART:20260101T000000
END:STANDARD
END:VTIMEZONE
BEGIN:VEVENT
DTSTART;TZID=UTC:20260405T103000
DTEND;TZID=UTC:20260405T130000
DTSTAMP:20260422T072431
CREATED:20260421T020238Z
LAST-MODIFIED:20260421T020509Z
UID:126130-1775385000-1775394000@www.usim.edu.my
SUMMARY:Majlis Perasmian Kursus Perdana Haji (KPH) 1447H/2026M Anjuran Tabung Haji Negeri Sembilan Dengan Kerjasama Kerajaan Negeri Sembilan
DESCRIPTION:
URL:https://www.usim.edu.my/ar/event/majlis-perasmian-kursus-perdana-haji-kph-1447h-2026m-anjuran-tabung-haji-negeri-sembilan-dengan-kerjasama-kerajaan-negeri-sembilan/
LOCATION:Kompleks Islam Tuanku Mukhriz\, USIM
CATEGORIES:Conference / Seminar,Staff
END:VEVENT
END:VCALENDAR