BEGIN:VCALENDAR
VERSION:2.0
PRODID:-//Universiti Sains Islam Malaysia - ECPv5.16.3.1//NONSGML v1.0//EN
CALSCALE:GREGORIAN
METHOD:PUBLISH
X-WR-CALNAME:Universiti Sains Islam Malaysia
X-ORIGINAL-URL:https://www.usim.edu.my/ar/
X-WR-CALDESC:Events for Universiti Sains Islam Malaysia
BEGIN:VTIMEZONE
TZID:Asia/Kuala_Lumpur
BEGIN:STANDARD
TZOFFSETFROM:+0800
TZOFFSETTO:+0800
TZNAME:+08
DTSTART:20170101T000000
END:STANDARD
END:VTIMEZONE
BEGIN:VEVENT
DTSTART;TZID=Asia/Kuala_Lumpur:20170823T080000
DTEND;TZID=Asia/Kuala_Lumpur:20170823T170000
DTSTAMP:20260420T125321
CREATED:20170728T011126Z
LAST-MODIFIED:20170803T083647Z
UID:38907-1503475200-1503507600@www.usim.edu.my
SUMMARY:Majlis Anugerah Kecemerlangan dan Inovasi USIM 2016
DESCRIPTION:
URL:https://www.usim.edu.my/ar/event/majlis-anugerah-kecemerlangan-dan-inovasi-usim-2016/
CATEGORIES:Academic,Administration (Internal),Staff
END:VEVENT
END:VCALENDAR