BEGIN:VCALENDAR
VERSION:2.0
PRODID:-//Universiti Sains Islam Malaysia - ECPv5.16.3.1//NONSGML v1.0//EN
CALSCALE:GREGORIAN
METHOD:PUBLISH
X-WR-CALNAME:Universiti Sains Islam Malaysia
X-ORIGINAL-URL:https://www.usim.edu.my/ar/
X-WR-CALDESC:Events for Universiti Sains Islam Malaysia
BEGIN:VTIMEZONE
TZID:Asia/Kuala_Lumpur
BEGIN:STANDARD
TZOFFSETFROM:+0800
TZOFFSETTO:+0800
TZNAME:+08
DTSTART:20170101T000000
END:STANDARD
END:VTIMEZONE
BEGIN:VEVENT
DTSTART;TZID=Asia/Kuala_Lumpur:20170829T140000
DTEND;TZID=Asia/Kuala_Lumpur:20170829T170000
DTSTAMP:20260420T094044
CREATED:20170807T071157Z
LAST-MODIFIED:20170807T071310Z
UID:39175-1504015200-1504026000@www.usim.edu.my
SUMMARY:Majlis Hari Pentadbir 2017
DESCRIPTION:
URL:https://www.usim.edu.my/ar/event/majlis-hari-pentadbir-2017/
LOCATION:Dewan Tuanku Canselor\, USIM
CATEGORIES:Administration,Others,Staff
END:VEVENT
END:VCALENDAR