BEGIN:VCALENDAR
VERSION:2.0
PRODID:-//Universiti Sains Islam Malaysia - ECPv5.16.3.1//NONSGML v1.0//EN
CALSCALE:GREGORIAN
METHOD:PUBLISH
X-WR-CALNAME:Universiti Sains Islam Malaysia
X-ORIGINAL-URL:https://www.usim.edu.my/ar/
X-WR-CALDESC:Events for Universiti Sains Islam Malaysia
BEGIN:VTIMEZONE
TZID:Asia/Kuala_Lumpur
BEGIN:STANDARD
TZOFFSETFROM:+0800
TZOFFSETTO:+0800
TZNAME:+08
DTSTART:20170101T000000
END:STANDARD
END:VTIMEZONE
BEGIN:VEVENT
DTSTART;TZID=Asia/Kuala_Lumpur:20171004T080000
DTEND;TZID=Asia/Kuala_Lumpur:20171004T170000
DTSTAMP:20260420T074608
CREATED:20170728T015136Z
LAST-MODIFIED:20170803T082647Z
UID:38919-1507104000-1507136400@www.usim.edu.my
SUMMARY:Majlis Perasmian Kompleks Islam USIM
DESCRIPTION:
URL:https://www.usim.edu.my/ar/event/majlis-perasmian-kompleks-islam-usim/
CATEGORIES:Administration (Internal),Staff
END:VEVENT
END:VCALENDAR