BEGIN:VCALENDAR
VERSION:2.0
PRODID:-//Universiti Sains Islam Malaysia - ECPv5.16.3.1//NONSGML v1.0//EN
CALSCALE:GREGORIAN
METHOD:PUBLISH
X-WR-CALNAME:Universiti Sains Islam Malaysia
X-ORIGINAL-URL:https://www.usim.edu.my/ar/
X-WR-CALDESC:Events for Universiti Sains Islam Malaysia
BEGIN:VTIMEZONE
TZID:Asia/Kuala_Lumpur
BEGIN:STANDARD
TZOFFSETFROM:+0800
TZOFFSETTO:+0800
TZNAME:+08
DTSTART:20170101T000000
END:STANDARD
END:VTIMEZONE
BEGIN:VEVENT
DTSTART;TZID=Asia/Kuala_Lumpur:20171007T090000
DTEND;TZID=Asia/Kuala_Lumpur:20171007T130000
DTSTAMP:20260420T074609
CREATED:20171002T062032Z
LAST-MODIFIED:20171002T062139Z
UID:39950-1507366800-1507381200@www.usim.edu.my
SUMMARY:Forum Penulis Muda 2017 | (FPM2017)
DESCRIPTION:
URL:https://www.usim.edu.my/ar/event/forum-penulis-muda-2017-fpm2017/
LOCATION:Dewan Kuliah Utama\, Fakulti Pengajian Quran dan Sunnah\, USIM
CATEGORIES:Academic,Others,Staff,Student
END:VEVENT
END:VCALENDAR