BEGIN:VCALENDAR
VERSION:2.0
PRODID:-//Universiti Sains Islam Malaysia - ECPv5.16.3.1//NONSGML v1.0//EN
CALSCALE:GREGORIAN
METHOD:PUBLISH
X-WR-CALNAME:Universiti Sains Islam Malaysia
X-ORIGINAL-URL:https://www.usim.edu.my/ar/
X-WR-CALDESC:Events for Universiti Sains Islam Malaysia
BEGIN:VTIMEZONE
TZID:Asia/Kuala_Lumpur
BEGIN:STANDARD
TZOFFSETFROM:+0800
TZOFFSETTO:+0800
TZNAME:+08
DTSTART:20170101T000000
END:STANDARD
END:VTIMEZONE
BEGIN:VEVENT
DTSTART;VALUE=DATE:20171010
DTEND;VALUE=DATE:20171012
DTSTAMP:20260420T092908
CREATED:20171005T085142Z
LAST-MODIFIED:20171005T085346Z
UID:40112-1507593600-1507766399@www.usim.edu.my
SUMMARY:5th International Conference on Quran as Foundation of the Civilation
DESCRIPTION:
URL:https://www.usim.edu.my/ar/event/5th-international-conference-quran-foundation-civilation/
LOCATION:Faculty of Quranic & Sunnah Studies\, USIM
CATEGORIES:Faculty,Others,Staff
END:VEVENT
BEGIN:VEVENT
DTSTART;TZID=Asia/Kuala_Lumpur:20171010T080000
DTEND;TZID=Asia/Kuala_Lumpur:20171010T170000
DTSTAMP:20260420T092908
CREATED:20170710T070924Z
LAST-MODIFIED:20170803T082300Z
UID:39053-1507622400-1507654800@www.usim.edu.my
SUMMARY:Tun Zaki Public Lecture
DESCRIPTION:
URL:https://www.usim.edu.my/ar/event/tun-zaki-public-lecture/
CATEGORIES:Others,Staff
END:VEVENT
END:VCALENDAR