BEGIN:VCALENDAR
VERSION:2.0
PRODID:-//Universiti Sains Islam Malaysia - ECPv5.16.3.1//NONSGML v1.0//EN
CALSCALE:GREGORIAN
METHOD:PUBLISH
X-WR-CALNAME:Universiti Sains Islam Malaysia
X-ORIGINAL-URL:https://www.usim.edu.my/ar/
X-WR-CALDESC:Events for Universiti Sains Islam Malaysia
BEGIN:VTIMEZONE
TZID:Asia/Kuala_Lumpur
BEGIN:STANDARD
TZOFFSETFROM:+0800
TZOFFSETTO:+0800
TZNAME:+08
DTSTART:20170101T000000
END:STANDARD
END:VTIMEZONE
BEGIN:VEVENT
DTSTART;TZID=Asia/Kuala_Lumpur:20171016T080000
DTEND;TZID=Asia/Kuala_Lumpur:20171016T173000
DTSTAMP:20260420T093539
CREATED:20171016T045933Z
LAST-MODIFIED:20171016T050145Z
UID:40248-1508140800-1508175000@www.usim.edu.my
SUMMARY:Pustakawan BITE 2017
DESCRIPTION:
URL:https://www.usim.edu.my/ar/event/pustakawan-bite-2017/
LOCATION:Perpustakaan Kampus USIM Nilai
CATEGORIES:Academic,Administration,Faculty,Staff,Student
END:VEVENT
END:VCALENDAR