BEGIN:VCALENDAR
VERSION:2.0
PRODID:-//Universiti Sains Islam Malaysia - ECPv5.16.3.1//NONSGML v1.0//EN
CALSCALE:GREGORIAN
METHOD:PUBLISH
X-WR-CALNAME:Universiti Sains Islam Malaysia
X-ORIGINAL-URL:https://www.usim.edu.my/ar/
X-WR-CALDESC:Events for Universiti Sains Islam Malaysia
BEGIN:VTIMEZONE
TZID:Asia/Kuala_Lumpur
BEGIN:STANDARD
TZOFFSETFROM:+0800
TZOFFSETTO:+0800
TZNAME:+08
DTSTART:20170101T000000
END:STANDARD
END:VTIMEZONE
BEGIN:VEVENT
DTSTART;TZID=Asia/Kuala_Lumpur:20171113T090000
DTEND;TZID=Asia/Kuala_Lumpur:20171114T170000
DTSTAMP:20260420T074634
CREATED:20171020T014231Z
LAST-MODIFIED:20171020T014356Z
UID:40348-1510563600-1510678800@www.usim.edu.my
SUMMARY:Konvesyen Penyelidikan Dadah: Ke arah program banteras dadah yang holistik berasaskan pembuktian
DESCRIPTION:
URL:https://www.usim.edu.my/ar/event/konvesyen-penyelidikan-dadah-ke-arah-program-banteras-dadah-yang-holistik-berasaskan-pembuktian/
LOCATION:Dewan Tuanku Canselor\, USIM
CATEGORIES:Conference / Seminar,Faculty,Staff,Student
END:VEVENT
END:VCALENDAR