BEGIN:VCALENDAR
VERSION:2.0
PRODID:-//Universiti Sains Islam Malaysia - ECPv5.16.3.1//NONSGML v1.0//EN
CALSCALE:GREGORIAN
METHOD:PUBLISH
X-WR-CALNAME:Universiti Sains Islam Malaysia
X-ORIGINAL-URL:https://www.usim.edu.my/ar/
X-WR-CALDESC:Events for Universiti Sains Islam Malaysia
BEGIN:VTIMEZONE
TZID:Asia/Kuala_Lumpur
BEGIN:STANDARD
TZOFFSETFROM:+0800
TZOFFSETTO:+0800
TZNAME:+08
DTSTART:20180101T000000
END:STANDARD
END:VTIMEZONE
BEGIN:VEVENT
DTSTART;TZID=Asia/Kuala_Lumpur:20180311T150000
DTEND;TZID=Asia/Kuala_Lumpur:20180311T170000
DTSTAMP:20260420T013659
CREATED:20180104T010800Z
LAST-MODIFIED:20180104T010835Z
UID:41528-1520780400-1520787600@www.usim.edu.my
SUMMARY:Islamic Global Innovation Festival and Talent (i-GIFT)
DESCRIPTION:
URL:https://www.usim.edu.my/ar/event/islamic-global-innovation-festival-talent-gift/
LOCATION:Dewan Tuanku Canselor\, USIM
CATEGORIES:Academic,Administration (Internal),Others,Staff,Student
END:VEVENT
END:VCALENDAR