BEGIN:VCALENDAR
VERSION:2.0
PRODID:-//Universiti Sains Islam Malaysia - ECPv5.16.3.1//NONSGML v1.0//EN
CALSCALE:GREGORIAN
METHOD:PUBLISH
X-WR-CALNAME:Universiti Sains Islam Malaysia
X-ORIGINAL-URL:https://www.usim.edu.my/ar/
X-WR-CALDESC:Events for Universiti Sains Islam Malaysia
BEGIN:VTIMEZONE
TZID:UTC
BEGIN:STANDARD
TZOFFSETFROM:+0000
TZOFFSETTO:+0000
TZNAME:UTC
DTSTART:20230101T000000
END:STANDARD
END:VTIMEZONE
BEGIN:VEVENT
DTSTART;TZID=UTC:20231005T200000
DTEND;TZID=UTC:20231005T220000
DTSTAMP:20260421T073220
CREATED:20230929T003917Z
LAST-MODIFIED:20230929T005226Z
UID:91875-1696536000-1696543200@www.usim.edu.my
SUMMARY:Amanat Naib Canselor - Majlis Lonjakan Kuantum & Majlis Lafaz Ikrar Pelajar Baharu Sarjana Muda Sesi Akademik 2023/2024
DESCRIPTION:
URL:https://www.usim.edu.my/ar/event/amanat-naib-canselor-majlis-lonjakan-kuantum-majlis-lafaz-ikrar-pelajar-baharu-sarjana-muda-sesi-akademik-2023-2024/
LOCATION:DEWAN TUANKU CANSELOR (DTC) USIM
CATEGORIES:Staff,Student
END:VEVENT
BEGIN:VEVENT
DTSTART;TZID=UTC:20231005T200000
DTEND;TZID=UTC:20231005T220000
DTSTAMP:20260421T073220
CREATED:20231004T062340Z
LAST-MODIFIED:20231004T062442Z
UID:91991-1696536000-1696543200@www.usim.edu.my
SUMMARY:Majlis Ramah Mesra Naib Canselor Sempena Taaruf Pelajar Baharu Sarjana Muda Sesi Akademik 2023/2024
DESCRIPTION:
URL:https://www.usim.edu.my/ar/event/majlis-ramah-mesra-naib-canselor-sempena-taaruf-pelajar-baharu-sarjana-muda-sesi-akademik-2023-2024/
LOCATION:dewan tuanku canselor
CATEGORIES:Staff,Student
END:VEVENT
END:VCALENDAR