BEGIN:VCALENDAR
VERSION:2.0
PRODID:-//Universiti Sains Islam Malaysia - ECPv5.16.3.1//NONSGML v1.0//EN
CALSCALE:GREGORIAN
METHOD:PUBLISH
X-WR-CALNAME:Universiti Sains Islam Malaysia
X-ORIGINAL-URL:https://www.usim.edu.my/ar/
X-WR-CALDESC:Events for Universiti Sains Islam Malaysia
BEGIN:VTIMEZONE
TZID:UTC
BEGIN:STANDARD
TZOFFSETFROM:+0000
TZOFFSETTO:+0000
TZNAME:UTC
DTSTART:20230101T000000
END:STANDARD
END:VTIMEZONE
BEGIN:VEVENT
DTSTART;TZID=UTC:20231006T200000
DTEND;TZID=UTC:20231006T220000
DTSTAMP:20260421T072922
CREATED:20230929T004200Z
LAST-MODIFIED:20230929T004414Z
UID:91881-1696622400-1696629600@www.usim.edu.my
SUMMARY:Majlis Lonjakan Kuantum & Majlis Lafaz Ikrar Pelajar Baharu Sarjana Muda Sesi Akademik 2023/2024
DESCRIPTION:
URL:https://www.usim.edu.my/ar/event/majlis-lonjakan-kuantum-majlis-lafaz-ikrar-pelajar-baharu-sarjana-muda-sesi-akademik-2023-2024/
LOCATION:Dewan Tuanku Canselor (DTC)
CATEGORIES:Staff,Student
END:VEVENT
END:VCALENDAR