BEGIN:VCALENDAR
VERSION:2.0
PRODID:-//Universiti Sains Islam Malaysia - ECPv5.16.3.1//NONSGML v1.0//EN
CALSCALE:GREGORIAN
METHOD:PUBLISH
X-WR-CALNAME:Universiti Sains Islam Malaysia
X-ORIGINAL-URL:https://www.usim.edu.my/ar/
X-WR-CALDESC:Events for Universiti Sains Islam Malaysia
BEGIN:VTIMEZONE
TZID:UTC
BEGIN:STANDARD
TZOFFSETFROM:+0000
TZOFFSETTO:+0000
TZNAME:UTC
DTSTART:20230101T000000
END:STANDARD
END:VTIMEZONE
BEGIN:VEVENT
DTSTART;TZID=UTC:20231012T190000
DTEND;TZID=UTC:20231012T220000
DTSTAMP:20260421T073533
CREATED:20230929T010016Z
LAST-MODIFIED:20230929T010258Z
UID:91898-1697137200-1697148000@www.usim.edu.my
SUMMARY:Majlis Sambutan Maulidur Rasul Peringkat USIM Tahun 2023M/1445H
DESCRIPTION:
URL:https://www.usim.edu.my/ar/event/majlis-sambutan-maulidur-rasul-peringkat-usim-tahun-2023m-1445h/
CATEGORIES:Staff,Student
END:VEVENT
END:VCALENDAR