BEGIN:VCALENDAR
VERSION:2.0
PRODID:-//Universiti Sains Islam Malaysia - ECPv5.16.3.1//NONSGML v1.0//EN
CALSCALE:GREGORIAN
METHOD:PUBLISH
X-WR-CALNAME:Universiti Sains Islam Malaysia
X-ORIGINAL-URL:https://www.usim.edu.my/ar/
X-WR-CALDESC:Events for Universiti Sains Islam Malaysia
BEGIN:VTIMEZONE
TZID:UTC
BEGIN:STANDARD
TZOFFSETFROM:+0000
TZOFFSETTO:+0000
TZNAME:UTC
DTSTART:20230101T000000
END:STANDARD
END:VTIMEZONE
BEGIN:VEVENT
DTSTART;TZID=UTC:20231025T140000
DTEND;TZID=UTC:20231025T170000
DTSTAMP:20260421T073327
CREATED:20231004T063328Z
LAST-MODIFIED:20231004T063432Z
UID:92005-1698242400-1698253200@www.usim.edu.my
SUMMARY:Majlis Apresiasi Penyelidikan Dan Inovasi 2022
DESCRIPTION:
URL:https://www.usim.edu.my/ar/event/majlis-apresiasi-penyelidikan-dan-inovasi-2022/
LOCATION:DEWAN AUDITORIUM FPSK\, USIM
CATEGORIES:Staff,Student
END:VEVENT
END:VCALENDAR