BEGIN:VCALENDAR
VERSION:2.0
PRODID:-//Universiti Sains Islam Malaysia - ECPv5.16.3.1//NONSGML v1.0//EN
CALSCALE:GREGORIAN
METHOD:PUBLISH
X-WR-CALNAME:Universiti Sains Islam Malaysia
X-ORIGINAL-URL:https://www.usim.edu.my/ar/
X-WR-CALDESC:Events for Universiti Sains Islam Malaysia
BEGIN:VTIMEZONE
TZID:UTC
BEGIN:STANDARD
TZOFFSETFROM:+0000
TZOFFSETTO:+0000
TZNAME:UTC
DTSTART:20230101T000000
END:STANDARD
END:VTIMEZONE
BEGIN:VEVENT
DTSTART;TZID=UTC:20231027T150000
DTEND;TZID=UTC:20231027T170000
DTSTAMP:20260421T073402
CREATED:20231026T080755Z
LAST-MODIFIED:20231026T080900Z
UID:92480-1698418800-1698426000@www.usim.edu.my
SUMMARY:Majlis Amanat Dan Lafaz Ikrar Taaruf Pelajar Baharu Sarjana Muda Sesi Akademik 2023/2024 (Rayuan) USIM
DESCRIPTION:
URL:https://www.usim.edu.my/ar/event/majlis-amanat-dan-lafaz-ikrar-taaruf-pelajar-baharu-sarjana-muda-sesi-akademik-2023-2024-rayuan-usim/
LOCATION:Dewan Tuanku Canselor USIM
CATEGORIES:Staff,Student
END:VEVENT
END:VCALENDAR