BEGIN:VCALENDAR
VERSION:2.0
PRODID:-//Universiti Sains Islam Malaysia - ECPv5.16.3.1//NONSGML v1.0//EN
CALSCALE:GREGORIAN
METHOD:PUBLISH
X-WR-CALNAME:Universiti Sains Islam Malaysia
X-ORIGINAL-URL:https://www.usim.edu.my/ar/
X-WR-CALDESC:Events for Universiti Sains Islam Malaysia
BEGIN:VTIMEZONE
TZID:UTC
BEGIN:STANDARD
TZOFFSETFROM:+0000
TZOFFSETTO:+0000
TZNAME:UTC
DTSTART:20230101T000000
END:STANDARD
END:VTIMEZONE
BEGIN:VEVENT
DTSTART;TZID=UTC:20231103T200000
DTEND;TZID=UTC:20231103T220000
DTSTAMP:20260421T060801
CREATED:20231025T011525Z
LAST-MODIFIED:20231025T011615Z
UID:92395-1699041600-1699048800@www.usim.edu.my
SUMMARY:Majlis Perasmian Kejohanan Sukan Antara Fakulti USIM (SUFA)
DESCRIPTION:
URL:https://www.usim.edu.my/ar/event/majlis-perasmian-kejohanan-sukan-antara-fakulti-usim-sufa/
LOCATION:KOMPLEKS SUKAN TUNKU NAJIHAH
CATEGORIES:Staff,Student
END:VEVENT
END:VCALENDAR