BEGIN:VCALENDAR
VERSION:2.0
PRODID:-//Universiti Sains Islam Malaysia - ECPv5.16.3.1//NONSGML v1.0//EN
CALSCALE:GREGORIAN
METHOD:PUBLISH
X-WR-CALNAME:Universiti Sains Islam Malaysia
X-ORIGINAL-URL:https://www.usim.edu.my/ar/
X-WR-CALDESC:Events for Universiti Sains Islam Malaysia
BEGIN:VTIMEZONE
TZID:UTC
BEGIN:STANDARD
TZOFFSETFROM:+0000
TZOFFSETTO:+0000
TZNAME:UTC
DTSTART:20230101T000000
END:STANDARD
END:VTIMEZONE
BEGIN:VEVENT
DTSTART;TZID=UTC:20231104T090000
DTEND;TZID=UTC:20231104T120000
DTSTAMP:20260421T055452
CREATED:20231101T032502Z
LAST-MODIFIED:20231101T032555Z
UID:92575-1699088400-1699099200@www.usim.edu.my
SUMMARY:Majlis Konvokesyen Sijil Pengajian Qur`An Dan Sunnah (SPeQS)
DESCRIPTION:
URL:https://www.usim.edu.my/ar/event/majlis-konvokesyen-sijil-pengajian-quran-dan-sunnah-speqs/
LOCATION:DEWAN KULIAH UTAMA\, FAKULTI PENGAJIAN QUR`AN DAN SUNNAH
CATEGORIES:Staff,Student
END:VEVENT
BEGIN:VEVENT
DTSTART;TZID=UTC:20231104T100000
DTEND;TZID=UTC:20231104T130000
DTSTAMP:20260421T055452
CREATED:20231101T032652Z
LAST-MODIFIED:20231101T032755Z
UID:92581-1699092000-1699102800@www.usim.edu.my
SUMMARY:Majlis Perasmian Karnival Kerjaya USIM X MYFUTUREJOBS
DESCRIPTION:
URL:https://www.usim.edu.my/ar/event/majlis-perasmian-karnival-kerjaya-usim-x-myfuturejobs/
LOCATION:Dewan Tuanku Canselor\, USIM
CATEGORIES:Staff,Student
END:VEVENT
END:VCALENDAR