BEGIN:VCALENDAR
VERSION:2.0
PRODID:-//Universiti Sains Islam Malaysia - ECPv5.16.3.1//NONSGML v1.0//EN
CALSCALE:GREGORIAN
METHOD:PUBLISH
X-WR-CALNAME:Universiti Sains Islam Malaysia
X-ORIGINAL-URL:https://www.usim.edu.my/ar/
X-WR-CALDESC:Events for Universiti Sains Islam Malaysia
BEGIN:VTIMEZONE
TZID:UTC
BEGIN:STANDARD
TZOFFSETFROM:+0000
TZOFFSETTO:+0000
TZNAME:UTC
DTSTART:20230101T000000
END:STANDARD
END:VTIMEZONE
BEGIN:VEVENT
DTSTART;TZID=UTC:20231109T160000
DTEND;TZID=UTC:20231109T180000
DTSTAMP:20260421T060854
CREATED:20231103T081242Z
LAST-MODIFIED:20231103T081337Z
UID:92699-1699545600-1699552800@www.usim.edu.my
SUMMARY:Majlis Penghargaan Lantikan Dan Jamuan Hi-Tea Jawatankuasa Siswa Siswi Asrama Dan Sekretariat Pelajar Luar Kampus USIM\, Sesi Akademik 2023/2024
DESCRIPTION:
URL:https://www.usim.edu.my/ar/event/majlis-penghargaan-lantikan-dan-jamuan-hi-tea-jawatankuasa-siswa-siswi-asrama-dan-sekretariat-pelajar-luar-kampus-usim-sesi-akademik-2023-2024/
LOCATION:BILIK JAMUAN VIP\, DEWAN TUANKU CANSELOR
CATEGORIES:Staff,Student
END:VEVENT
END:VCALENDAR