BEGIN:VCALENDAR
VERSION:2.0
PRODID:-//Universiti Sains Islam Malaysia - ECPv5.16.3.1//NONSGML v1.0//EN
CALSCALE:GREGORIAN
METHOD:PUBLISH
X-WR-CALNAME:Universiti Sains Islam Malaysia
X-ORIGINAL-URL:https://www.usim.edu.my/ar/
X-WR-CALDESC:Events for Universiti Sains Islam Malaysia
BEGIN:VTIMEZONE
TZID:UTC
BEGIN:STANDARD
TZOFFSETFROM:+0000
TZOFFSETTO:+0000
TZNAME:UTC
DTSTART:20230101T000000
END:STANDARD
END:VTIMEZONE
BEGIN:VEVENT
DTSTART;TZID=UTC:20231118T080000
DTEND;TZID=UTC:20231118T173000
DTSTAMP:20260421T054907
CREATED:20231117T073521Z
LAST-MODIFIED:20231117T073625Z
UID:92811-1700294400-1700328600@www.usim.edu.my
SUMMARY:Simposium “Statelessness In Malaysia: Solidarity Through Knowledge And Innovation”
DESCRIPTION:
URL:https://www.usim.edu.my/ar/event/simposium-statelessness-in-malaysia-solidarity-through-knowledge-and-innovation/
LOCATION:TAYLOR’S UNIVERSITY
CATEGORIES:Staff,Student
END:VEVENT
END:VCALENDAR