BEGIN:VCALENDAR
VERSION:2.0
PRODID:-//Universiti Sains Islam Malaysia - ECPv5.16.3.1//NONSGML v1.0//EN
CALSCALE:GREGORIAN
METHOD:PUBLISH
X-WR-CALNAME:Universiti Sains Islam Malaysia
X-ORIGINAL-URL:https://www.usim.edu.my/ar/
X-WR-CALDESC:Events for Universiti Sains Islam Malaysia
BEGIN:VTIMEZONE
TZID:UTC
BEGIN:STANDARD
TZOFFSETFROM:+0000
TZOFFSETTO:+0000
TZNAME:UTC
DTSTART:20230101T000000
END:STANDARD
END:VTIMEZONE
BEGIN:VEVENT
DTSTART;TZID=UTC:20231121T190000
DTEND;TZID=UTC:20231121T230000
DTSTAMP:20260421T055518
CREATED:20231115T005829Z
LAST-MODIFIED:20231115T005959Z
UID:92795-1700593200-1700607600@www.usim.edu.my
SUMMARY:Majlis Pengenalan Calon MPP 2023
DESCRIPTION:
URL:https://www.usim.edu.my/ar/event/majlis-pengenalan-calon-mpp-2023/
LOCATION:DEWAN SERBAGUNA KPI
CATEGORIES:Staff,Student
END:VEVENT
END:VCALENDAR