BEGIN:VCALENDAR
VERSION:2.0
PRODID:-//Universiti Sains Islam Malaysia - ECPv5.16.3.1//NONSGML v1.0//EN
CALSCALE:GREGORIAN
METHOD:PUBLISH
X-WR-CALNAME:Universiti Sains Islam Malaysia
X-ORIGINAL-URL:https://www.usim.edu.my/ar/
X-WR-CALDESC:Events for Universiti Sains Islam Malaysia
BEGIN:VTIMEZONE
TZID:UTC
BEGIN:STANDARD
TZOFFSETFROM:+0000
TZOFFSETTO:+0000
TZNAME:UTC
DTSTART:20230101T000000
END:STANDARD
END:VTIMEZONE
BEGIN:VEVENT
DTSTART;TZID=UTC:20231205T180000
DTEND;TZID=UTC:20231205T193000
DTSTAMP:20260421T041347
CREATED:20231205T025750Z
LAST-MODIFIED:20231205T030000Z
UID:93022-1701799200-1701804600@www.usim.edu.my
SUMMARY:Majlis Pengumuman Keputusan Pemilihan Majlis Perwakilan Pelajar (PMPP) 2023 USIM
DESCRIPTION:
URL:https://www.usim.edu.my/ar/event/majlis-pengumuman-keputusan-pemilihan-majlis-perwakilan-pelajar-pmpp-2023-usim/
LOCATION:DEWAN SERBAGUNA\, KOLEJ PERMATA INSAN
CATEGORIES:Staff,Student
END:VEVENT
END:VCALENDAR