BEGIN:VCALENDAR
VERSION:2.0
PRODID:-//Universiti Sains Islam Malaysia - ECPv5.16.3.1//NONSGML v1.0//EN
CALSCALE:GREGORIAN
METHOD:PUBLISH
X-WR-CALNAME:Universiti Sains Islam Malaysia
X-ORIGINAL-URL:https://www.usim.edu.my/ar/
X-WR-CALDESC:Events for Universiti Sains Islam Malaysia
BEGIN:VTIMEZONE
TZID:UTC
BEGIN:STANDARD
TZOFFSETFROM:+0000
TZOFFSETTO:+0000
TZNAME:UTC
DTSTART:20230101T000000
END:STANDARD
END:VTIMEZONE
BEGIN:VEVENT
DTSTART;TZID=UTC:20231206T140000
DTEND;TZID=UTC:20231206T170000
DTSTAMP:20260421T041252
CREATED:20231205T031127Z
LAST-MODIFIED:20231205T031359Z
UID:93042-1701871200-1701882000@www.usim.edu.my
SUMMARY:Majlis Penyerahan Buku Kompas 114 Versi Braille Dan Pelancaran Buku Matan Qiraat (Hirz Al-Amaniy) Al-Imam Al-Shatibiy Versi Braille
DESCRIPTION:
URL:https://www.usim.edu.my/ar/event/majlis-penyerahan-buku-kompas-114-versi-braille-dan-pelancaran-buku-matan-qiraat-hirz-al-amaniy-al-imam-al-shatibiy-versi-braille/
LOCATION:DKF 2.2 FPQS
CATEGORIES:Staff,Student
END:VEVENT
BEGIN:VEVENT
DTSTART;TZID=UTC:20231206T180000
DTEND;TZID=UTC:20231206T210000
DTSTAMP:20260421T041252
CREATED:20231205T032716Z
LAST-MODIFIED:20231205T032757Z
UID:93054-1701885600-1701896400@www.usim.edu.my
SUMMARY:Majlis USIM Berzikir Untuk Palestin
DESCRIPTION:
URL:https://www.usim.edu.my/ar/event/majlis-usim-berzikir-untuk-palestin/
LOCATION:dewan tuanku canselor
CATEGORIES:Staff,Student
END:VEVENT
END:VCALENDAR