BEGIN:VCALENDAR
VERSION:2.0
PRODID:-//Universiti Sains Islam Malaysia - ECPv5.16.3.1//NONSGML v1.0//EN
CALSCALE:GREGORIAN
METHOD:PUBLISH
X-WR-CALNAME:Universiti Sains Islam Malaysia
X-ORIGINAL-URL:https://www.usim.edu.my/ar/
X-WR-CALDESC:Events for Universiti Sains Islam Malaysia
BEGIN:VTIMEZONE
TZID:UTC
BEGIN:STANDARD
TZOFFSETFROM:+0000
TZOFFSETTO:+0000
TZNAME:UTC
DTSTART:20230101T000000
END:STANDARD
END:VTIMEZONE
BEGIN:VEVENT
DTSTART;TZID=UTC:20231211T140000
DTEND;TZID=UTC:20231211T170000
DTSTAMP:20260421T060039
CREATED:20231211T034532Z
LAST-MODIFIED:20231211T034805Z
UID:93167-1702303200-1702314000@www.usim.edu.my
SUMMARY:Supervisor Appreciation and Robing Ceremony (SARC)
DESCRIPTION:
URL:https://www.usim.edu.my/ar/event/supervisor-appreciation-and-robing-ceremony-sarc/
LOCATION:DEWAN AUDITORIUM FPSK\, USIM
CATEGORIES:Staff,Student
END:VEVENT
BEGIN:VEVENT
DTSTART;TZID=UTC:20231211T200000
DTEND;TZID=UTC:20231211T220000
DTSTAMP:20260421T060039
CREATED:20231211T040351Z
LAST-MODIFIED:20231211T040443Z
UID:93187-1702324800-1702332000@www.usim.edu.my
SUMMARY:Majlis Perasmian Pembukaan Olek Godang @ USIM (Pesta Konvokesyen Kali Ke-21)
DESCRIPTION:
URL:https://www.usim.edu.my/ar/event/majlis-perasmian-pembukaan-olek-godang-usim-pesta-konvokesyen-kali-ke-21/
LOCATION:KHEMAH UTAMA OLEK GODANG @ USIM\, DTC\, USIM
CATEGORIES:Staff,Student
END:VEVENT
END:VCALENDAR