BEGIN:VCALENDAR
VERSION:2.0
PRODID:-//Universiti Sains Islam Malaysia - ECPv5.16.3.1//NONSGML v1.0//EN
CALSCALE:GREGORIAN
METHOD:PUBLISH
X-WR-CALNAME:Universiti Sains Islam Malaysia
X-ORIGINAL-URL:https://www.usim.edu.my/ar/
X-WR-CALDESC:Events for Universiti Sains Islam Malaysia
BEGIN:VTIMEZONE
TZID:UTC
BEGIN:STANDARD
TZOFFSETFROM:+0000
TZOFFSETTO:+0000
TZNAME:UTC
DTSTART:20240101T000000
END:STANDARD
END:VTIMEZONE
BEGIN:VEVENT
DTSTART;TZID=UTC:20240104T090000
DTEND;TZID=UTC:20240104T103000
DTSTAMP:20260421T023124
CREATED:20240103T013820Z
LAST-MODIFIED:20240103T014017Z
UID:93646-1704358800-1704364200@www.usim.edu.my
SUMMARY:Showcase Minecraft Kampus Barakah Challenge (MKBC ’23)
DESCRIPTION:
URL:https://www.usim.edu.my/ar/event/showcase-minecraft-kampus-barakah-challenge-mkbc-23/
LOCATION:RUANG PENTAS RUKNU ARABIY
CATEGORIES:Staff,Student
END:VEVENT
BEGIN:VEVENT
DTSTART;TZID=UTC:20240104T190000
DTEND;TZID=UTC:20240104T210000
DTSTAMP:20260421T023124
CREATED:20240104T010527Z
LAST-MODIFIED:20240104T010647Z
UID:93695-1704394800-1704402000@www.usim.edu.my
SUMMARY:Majlis Bacaan Yasin & Doa Selamat Sempena Hari Keputeraan Dymm Yang Di-Pertuan Besar Negeri Sembilan Ke-76
DESCRIPTION:
URL:https://www.usim.edu.my/ar/event/majlis-bacaan-yasin-doa-selamat-sempena-hari-keputeraan-dymm-yang-di-pertuan-besar-negeri-sembilan-ke-76/
LOCATION:KOMPLEKS ISLAM TUANKU MUHRIZ USIM
CATEGORIES:Staff,Student
END:VEVENT
END:VCALENDAR