BEGIN:VCALENDAR
VERSION:2.0
PRODID:-//Universiti Sains Islam Malaysia - ECPv5.16.3.1//NONSGML v1.0//EN
CALSCALE:GREGORIAN
METHOD:PUBLISH
X-WR-CALNAME:Universiti Sains Islam Malaysia
X-ORIGINAL-URL:https://www.usim.edu.my/ar/
X-WR-CALDESC:Events for Universiti Sains Islam Malaysia
BEGIN:VTIMEZONE
TZID:UTC
BEGIN:STANDARD
TZOFFSETFROM:+0000
TZOFFSETTO:+0000
TZNAME:UTC
DTSTART:20240101T000000
END:STANDARD
END:VTIMEZONE
BEGIN:VEVENT
DTSTART;TZID=UTC:20240116T140000
DTEND;TZID=UTC:20240116T180000
DTSTAMP:20260421T041248
CREATED:20240112T073412Z
LAST-MODIFIED:20240112T073642Z
UID:93802-1705413600-1705428000@www.usim.edu.my
SUMMARY:Program Tvet Place & Train UTeM@KPT
DESCRIPTION:
URL:https://www.usim.edu.my/ar/event/program-tvet-place-train-utemkpt/
LOCATION:DEWAN CANSELOR\, UTeM
CATEGORIES:Staff,Student
END:VEVENT
END:VCALENDAR