BEGIN:VCALENDAR
VERSION:2.0
PRODID:-//Universiti Sains Islam Malaysia - ECPv5.16.3.1//NONSGML v1.0//EN
CALSCALE:GREGORIAN
METHOD:PUBLISH
X-WR-CALNAME:Universiti Sains Islam Malaysia
X-ORIGINAL-URL:https://www.usim.edu.my/ar/
X-WR-CALDESC:Events for Universiti Sains Islam Malaysia
BEGIN:VTIMEZONE
TZID:UTC
BEGIN:STANDARD
TZOFFSETFROM:+0000
TZOFFSETTO:+0000
TZNAME:UTC
DTSTART:20240101T000000
END:STANDARD
END:VTIMEZONE
BEGIN:VEVENT
DTSTART;TZID=UTC:20240131T080000
DTEND;TZID=UTC:20240131T093000
DTSTAMP:20260421T004403
CREATED:20240129T033644Z
LAST-MODIFIED:20240129T033741Z
UID:93955-1706688000-1706693400@www.usim.edu.my
SUMMARY:Program Pagi Barakah Dan Sihat Siri 1 Tahun 2024
DESCRIPTION:
URL:https://www.usim.edu.my/ar/event/program-pagi-barakah-dan-sihat-siri-1-tahun-2024/
LOCATION:Kompleks Sukan Tunku Najihah \, USIM dan Sekitar Nilai
CATEGORIES:Staff,Student
END:VEVENT
END:VCALENDAR