BEGIN:VCALENDAR
VERSION:2.0
PRODID:-//Universiti Sains Islam Malaysia - ECPv5.16.3.1//NONSGML v1.0//EN
CALSCALE:GREGORIAN
METHOD:PUBLISH
X-WR-CALNAME:Universiti Sains Islam Malaysia
X-ORIGINAL-URL:https://www.usim.edu.my/ar/
X-WR-CALDESC:Events for Universiti Sains Islam Malaysia
BEGIN:VTIMEZONE
TZID:UTC
BEGIN:STANDARD
TZOFFSETFROM:+0000
TZOFFSETTO:+0000
TZNAME:UTC
DTSTART:20240101T000000
END:STANDARD
END:VTIMEZONE
BEGIN:VEVENT
DTSTART;TZID=UTC:20240211T090000
DTEND;TZID=UTC:20240211T150000
DTSTAMP:20260421T004604
CREATED:20240209T081421Z
LAST-MODIFIED:20240209T081513Z
UID:94145-1707642000-1707663600@www.usim.edu.my
SUMMARY:Hari Pendaftaran Siswazah Baru Semester 2 A232 (2023/2024)
DESCRIPTION:
URL:https://www.usim.edu.my/ar/event/hari-pendaftaran-siswazah-baru-semester-2-a232-2023-2024/
LOCATION:BAHAGIAN PENGURUSAN SISWAZAH\, PPA (BANGUNAN PPS)
CATEGORIES:Staff,Student
END:VEVENT
END:VCALENDAR