BEGIN:VCALENDAR
VERSION:2.0
PRODID:-//Universiti Sains Islam Malaysia - ECPv5.16.3.1//NONSGML v1.0//EN
CALSCALE:GREGORIAN
METHOD:PUBLISH
X-WR-CALNAME:Universiti Sains Islam Malaysia
X-ORIGINAL-URL:https://www.usim.edu.my/ar/
X-WR-CALDESC:Events for Universiti Sains Islam Malaysia
BEGIN:VTIMEZONE
TZID:UTC
BEGIN:STANDARD
TZOFFSETFROM:+0000
TZOFFSETTO:+0000
TZNAME:UTC
DTSTART:20240101T000000
END:STANDARD
END:VTIMEZONE
BEGIN:VEVENT
DTSTART;TZID=UTC:20240320T140000
DTEND;TZID=UTC:20240320T170000
DTSTAMP:20260421T004526
CREATED:20240319T020835Z
LAST-MODIFIED:20240319T020945Z
UID:94787-1710943200-1710954000@www.usim.edu.my
SUMMARY:Sesi Pembentangan Hala Tuju Pusat Kebudayaan USIM Bersama Naib Canselor
DESCRIPTION:
URL:https://www.usim.edu.my/ar/event/sesi-pembentangan-hala-tuju-pusat-kebudayaan-usim-bersama-naib-canselor/
LOCATION:PANGGUNG BUDAYA
CATEGORIES:Staff,Student
END:VEVENT
END:VCALENDAR