BEGIN:VCALENDAR
VERSION:2.0
PRODID:-//Universiti Sains Islam Malaysia - ECPv5.16.3.1//NONSGML v1.0//EN
CALSCALE:GREGORIAN
METHOD:PUBLISH
X-WR-CALNAME:Universiti Sains Islam Malaysia
X-ORIGINAL-URL:https://www.usim.edu.my/ar/
X-WR-CALDESC:Events for Universiti Sains Islam Malaysia
BEGIN:VTIMEZONE
TZID:UTC
BEGIN:STANDARD
TZOFFSETFROM:+0000
TZOFFSETTO:+0000
TZNAME:UTC
DTSTART:20240101T000000
END:STANDARD
END:VTIMEZONE
BEGIN:VEVENT
DTSTART;TZID=UTC:20240504T090000
DTEND;TZID=UTC:20240504T120000
DTSTAMP:20260420T184156
CREATED:20240502T062754Z
LAST-MODIFIED:20240502T062924Z
UID:95567-1714813200-1714824000@www.usim.edu.my
SUMMARY:Program Pelepasan Nyamuk Aedes BerWolbachia peringkat Negeri Sembilan
DESCRIPTION:
URL:https://www.usim.edu.my/ar/event/program-pelepasan-nyamuk-aedes-berwolbachia-peringkat-negeri-sembilan/
LOCATION:Anggerik court
CATEGORIES:Staff,Student
END:VEVENT
END:VCALENDAR