BEGIN:VCALENDAR
VERSION:2.0
PRODID:-//Universiti Sains Islam Malaysia - ECPv5.16.3.1//NONSGML v1.0//EN
CALSCALE:GREGORIAN
METHOD:PUBLISH
X-WR-CALNAME:Universiti Sains Islam Malaysia
X-ORIGINAL-URL:https://www.usim.edu.my/ar/
X-WR-CALDESC:Events for Universiti Sains Islam Malaysia
BEGIN:VTIMEZONE
TZID:UTC
BEGIN:STANDARD
TZOFFSETFROM:+0000
TZOFFSETTO:+0000
TZNAME:UTC
DTSTART:20250101T000000
END:STANDARD
END:VTIMEZONE
BEGIN:VEVENT
DTSTART;TZID=UTC:20250115T193000
DTEND;TZID=UTC:20250115T223000
DTSTAMP:20260420T033443
CREATED:20250115T040517Z
LAST-MODIFIED:20250115T040629Z
UID:99891-1736969400-1736980200@www.usim.edu.my
SUMMARY:Program Wacana Minda Madani
DESCRIPTION:
URL:https://www.usim.edu.my/ar/event/program-wacana-minda-madani/
LOCATION:DKF 1.2\, FKP
CATEGORIES:Staff,Student
END:VEVENT
END:VCALENDAR