BEGIN:VCALENDAR
VERSION:2.0
PRODID:-//Universiti Sains Islam Malaysia - ECPv5.16.3.1//NONSGML v1.0//EN
CALSCALE:GREGORIAN
METHOD:PUBLISH
X-WR-CALNAME:Universiti Sains Islam Malaysia
X-ORIGINAL-URL:https://www.usim.edu.my/ar/
X-WR-CALDESC:Events for Universiti Sains Islam Malaysia
BEGIN:VTIMEZONE
TZID:UTC
BEGIN:STANDARD
TZOFFSETFROM:+0000
TZOFFSETTO:+0000
TZNAME:UTC
DTSTART:20250101T000000
END:STANDARD
END:VTIMEZONE
BEGIN:VEVENT
DTSTART;TZID=UTC:20250513T083000
DTEND;TZID=UTC:20250513T090000
DTSTAMP:20260419T224326
CREATED:20250509T014957Z
LAST-MODIFIED:20250509T015042Z
UID:101192-1747125000-1747126800@www.usim.edu.my
SUMMARY:Sesi Rakam Masuk Timbalan Naib Canselor (Hal Ehwal Pelajar Dan Alumni) USIM
DESCRIPTION:
URL:https://www.usim.edu.my/ar/event/sesi-rakam-masuk-timbalan-naib-canselor-hal-ehwal-pelajar-dan-alumni-usim/
LOCATION:Lobi Bangunan Canselori
CATEGORIES:Staff,Student
END:VEVENT
END:VCALENDAR