BEGIN:VCALENDAR
VERSION:2.0
PRODID:-//Universiti Sains Islam Malaysia - ECPv5.16.3.1//NONSGML v1.0//EN
CALSCALE:GREGORIAN
METHOD:PUBLISH
X-WR-CALNAME:Universiti Sains Islam Malaysia
X-ORIGINAL-URL:https://www.usim.edu.my
X-WR-CALDESC:Events for Universiti Sains Islam Malaysia
BEGIN:VTIMEZONE
TZID:Asia/Kuala_Lumpur
BEGIN:STANDARD
TZOFFSETFROM:+0800
TZOFFSETTO:+0800
TZNAME:+08
DTSTART:20190101T000000
END:STANDARD
END:VTIMEZONE
BEGIN:VEVENT
DTSTART;TZID=Asia/Kuala_Lumpur:20190905T080000
DTEND;TZID=Asia/Kuala_Lumpur:20190906T170000
DTSTAMP:20260423T194220
CREATED:20190814T061948Z
LAST-MODIFIED:20190814T061948Z
UID:51273-1567670400-1567789200@www.usim.edu.my
SUMMARY:Bengkel Kualiti FPBU
DESCRIPTION:
URL:https://www.usim.edu.my/event/bengkel-kualiti-fpbu/
LOCATION:Fakulti Pengajian dan Bah
END:VEVENT
END:VCALENDAR