BEGIN:VCALENDAR
VERSION:2.0
PRODID:-//Universiti Sains Islam Malaysia - ECPv5.16.3.1//NONSGML v1.0//EN
CALSCALE:GREGORIAN
METHOD:PUBLISH
X-WR-CALNAME:Universiti Sains Islam Malaysia
X-ORIGINAL-URL:https://www.usim.edu.my
X-WR-CALDESC:Events for Universiti Sains Islam Malaysia
BEGIN:VTIMEZONE
TZID:UTC
BEGIN:STANDARD
TZOFFSETFROM:+0000
TZOFFSETTO:+0000
TZNAME:UTC
DTSTART:20220101T000000
END:STANDARD
END:VTIMEZONE
BEGIN:VEVENT
DTSTART;TZID=UTC:20221007T100000
DTEND;TZID=UTC:20221007T120000
DTSTAMP:20260425T221600
CREATED:20221003T012322Z
LAST-MODIFIED:20221003T012359Z
UID:72292-1665136800-1665144000@www.usim.edu.my
SUMMARY:Courtesy Visit to Kingdom of Bahrain Embassy
DESCRIPTION:
URL:https://www.usim.edu.my/event/courtesy-visit-to-kingdom-of-bahrain-embassy/
LOCATION:Kedutaan Bahrain\, Kuala Lumpur
CATEGORIES:Staff
END:VEVENT
END:VCALENDAR