BEGIN:VCALENDAR
VERSION:2.0
PRODID:-//Universiti Sains Islam Malaysia - ECPv5.16.3.1//NONSGML v1.0//EN
CALSCALE:GREGORIAN
METHOD:PUBLISH
X-WR-CALNAME:Universiti Sains Islam Malaysia
X-ORIGINAL-URL:https://www.usim.edu.my
X-WR-CALDESC:Events for Universiti Sains Islam Malaysia
BEGIN:VTIMEZONE
TZID:Asia/Kuala_Lumpur
BEGIN:STANDARD
TZOFFSETFROM:+0800
TZOFFSETTO:+0800
TZNAME:+08
DTSTART:20220101T000000
END:STANDARD
END:VTIMEZONE
BEGIN:VEVENT
DTSTART;TZID=Asia/Kuala_Lumpur:20220324T180000
DTEND;TZID=Asia/Kuala_Lumpur:20220324T193000
DTSTAMP:20260424T054520
CREATED:20220324T022644Z
LAST-MODIFIED:20220324T022706Z
UID:67193-1648144800-1648150200@www.usim.edu.my
SUMMARY:E MAJLIS PENYERAHAN 1000 ID KEPADA GOLONGAN B40
DESCRIPTION:TETAMU KEHORMAT / PERASMI: \nHaji Mohd Nazree Bin Haji Mohd Yunus\, \nAhli LPU USIM
URL:https://www.usim.edu.my/event/e-majlis-penyerahan-1000-id-kepada-golongan-b40/
LOCATION:Cyberview Resort & Spa
CATEGORIES:Academic,Student
END:VEVENT
END:VCALENDAR