BEGIN:VCALENDAR
VERSION:2.0
PRODID:-//Universiti Sains Islam Malaysia - ECPv5.16.3.1//NONSGML v1.0//EN
CALSCALE:GREGORIAN
METHOD:PUBLISH
X-WR-CALNAME:Universiti Sains Islam Malaysia
X-ORIGINAL-URL:https://www.usim.edu.my
X-WR-CALDESC:Events for Universiti Sains Islam Malaysia
BEGIN:VTIMEZONE
TZID:UTC
BEGIN:STANDARD
TZOFFSETFROM:+0000
TZOFFSETTO:+0000
TZNAME:UTC
DTSTART:20240101T000000
END:STANDARD
END:VTIMEZONE
BEGIN:VEVENT
DTSTART;TZID=UTC:20240625T120000
DTEND;TZID=UTC:20240625T133000
DTSTAMP:20260422T195953
CREATED:20240625T021030Z
LAST-MODIFIED:20240625T021257Z
UID:97069-1719316800-1719322200@www.usim.edu.my
SUMMARY:Hari Istimewa Sains @ Pusat Sains Negara
DESCRIPTION:
URL:https://www.usim.edu.my/event/hari-istimewa-sains-pusat-sains-negara/
LOCATION:PUSAT SAINS NEGARA
CATEGORIES:Staff
END:VEVENT
END:VCALENDAR