BEGIN:VCALENDAR
VERSION:2.0
PRODID:-//Universiti Sains Islam Malaysia - ECPv5.16.3.1//NONSGML v1.0//EN
CALSCALE:GREGORIAN
METHOD:PUBLISH
X-WR-CALNAME:Universiti Sains Islam Malaysia
X-ORIGINAL-URL:https://www.usim.edu.my
X-WR-CALDESC:Events for Universiti Sains Islam Malaysia
BEGIN:VTIMEZONE
TZID:UTC
BEGIN:STANDARD
TZOFFSETFROM:+0000
TZOFFSETTO:+0000
TZNAME:UTC
DTSTART:20240101T000000
END:STANDARD
END:VTIMEZONE
BEGIN:VEVENT
DTSTART;TZID=UTC:20241220T160000
DTEND;TZID=UTC:20241220T170000
DTSTAMP:20260420T071347
CREATED:20241219T073733Z
LAST-MODIFIED:20241219T074251Z
UID:99659-1734710400-1734714000@www.usim.edu.my
SUMMARY:Kunjungan Hormat Dari Tashkent University of Architecture and Civil Engineering
DESCRIPTION:
URL:https://www.usim.edu.my/event/kunjungan-hormat-dari-tashkent-university-of-architecture-and-civil-engineering/
LOCATION:Bilik Mesyuarat LPU
CATEGORIES:Staff
END:VEVENT
END:VCALENDAR