BEGIN:VCALENDAR
VERSION:2.0
PRODID:-//Universiti Sains Islam Malaysia - ECPv5.16.3.1//NONSGML v1.0//EN
CALSCALE:GREGORIAN
METHOD:PUBLISH
X-WR-CALNAME:Universiti Sains Islam Malaysia
X-ORIGINAL-URL:https://www.usim.edu.my
X-WR-CALDESC:Events for Universiti Sains Islam Malaysia
BEGIN:VTIMEZONE
TZID:UTC
BEGIN:STANDARD
TZOFFSETFROM:+0000
TZOFFSETTO:+0000
TZNAME:UTC
DTSTART:20220101T000000
END:STANDARD
END:VTIMEZONE
BEGIN:VEVENT
DTSTART;TZID=UTC:20220822T120000
DTEND;TZID=UTC:20220822T133000
DTSTAMP:20260423T164340
CREATED:20220822T023854Z
LAST-MODIFIED:20220822T023915Z
UID:69908-1661169600-1661175000@www.usim.edu.my
SUMMARY:Kunjungan Hormat Delegasi Universitas Muslim Indonesia (UMI) Kota Makassar\, Sulawesi Selatan Ke USIM
DESCRIPTION:
URL:https://www.usim.edu.my/event/kunjungan-hormat-delegasi-universitas-muslim-indonesia-umi-kota-makassar-sulawesi-selatan-ke-usim/
LOCATION:Bilik Mesyuarat Utama FPSK
CATEGORIES:Staff
END:VEVENT
END:VCALENDAR