BEGIN:VCALENDAR
VERSION:2.0
PRODID:-//Universiti Sains Islam Malaysia - ECPv5.16.3.1//NONSGML v1.0//EN
CALSCALE:GREGORIAN
METHOD:PUBLISH
X-WR-CALNAME:Universiti Sains Islam Malaysia
X-ORIGINAL-URL:https://www.usim.edu.my
X-WR-CALDESC:Events for Universiti Sains Islam Malaysia
BEGIN:VTIMEZONE
TZID:UTC
BEGIN:STANDARD
TZOFFSETFROM:+0000
TZOFFSETTO:+0000
TZNAME:UTC
DTSTART:20220101T000000
END:STANDARD
END:VTIMEZONE
BEGIN:VEVENT
DTSTART;TZID=UTC:20221019T143000
DTEND;TZID=UTC:20221019T153000
DTSTAMP:20260426T063049
CREATED:20221018T045051Z
LAST-MODIFIED:20221018T045117Z
UID:72692-1666189800-1666193400@www.usim.edu.my
SUMMARY:Kunjungan Hormat MJK KUSIMA Bersama YBhg. Dato' Pendaftar USIM
DESCRIPTION:
URL:https://www.usim.edu.my/event/kunjungan-hormat-mjk-kusima-bersama-ybhg-dato-pendaftar-usim/
LOCATION:Bilik Mesyuarat Jabatan Pendaftar
CATEGORIES:Staff
END:VEVENT
END:VCALENDAR