BEGIN:VCALENDAR
VERSION:2.0
PRODID:-//Universiti Sains Islam Malaysia - ECPv5.16.3.1//NONSGML v1.0//EN
CALSCALE:GREGORIAN
METHOD:PUBLISH
X-WR-CALNAME:Universiti Sains Islam Malaysia
X-ORIGINAL-URL:https://www.usim.edu.my
X-WR-CALDESC:Events for Universiti Sains Islam Malaysia
BEGIN:VTIMEZONE
TZID:UTC
BEGIN:STANDARD
TZOFFSETFROM:+0000
TZOFFSETTO:+0000
TZNAME:UTC
DTSTART:20230101T000000
END:STANDARD
END:VTIMEZONE
BEGIN:VEVENT
DTSTART;TZID=UTC:20230329T103000
DTEND;TZID=UTC:20230329T120000
DTSTAMP:20260421T035229
CREATED:20230329T042336Z
LAST-MODIFIED:20230329T042408Z
UID:77396-1680085800-1680091200@www.usim.edu.my
SUMMARY:Kunjungan Hormat Raheemah Peace Weavers Ke USIM
DESCRIPTION:Kunjungan Hormat Raheemah Peace Weavers Ke USIM
URL:https://www.usim.edu.my/event/kunjungan-hormat-raheemah-peace-weavers-ke-usim/
LOCATION:Bilik Mesyuarat Naib Canselor
CATEGORIES:Staff
END:VEVENT
END:VCALENDAR