BEGIN:VCALENDAR
VERSION:2.0
PRODID:-//Universiti Sains Islam Malaysia - ECPv5.16.3.1//NONSGML v1.0//EN
CALSCALE:GREGORIAN
METHOD:PUBLISH
X-WR-CALNAME:Universiti Sains Islam Malaysia
X-ORIGINAL-URL:https://www.usim.edu.my
X-WR-CALDESC:Events for Universiti Sains Islam Malaysia
BEGIN:VTIMEZONE
TZID:Asia/Kuala_Lumpur
BEGIN:STANDARD
TZOFFSETFROM:+0800
TZOFFSETTO:+0800
TZNAME:+08
DTSTART:20220101T000000
END:STANDARD
END:VTIMEZONE
BEGIN:VEVENT
DTSTART;TZID=Asia/Kuala_Lumpur:20221027T000000
DTEND;TZID=Asia/Kuala_Lumpur:20221027T000000
DTSTAMP:20260426T115213
CREATED:20221027T070732Z
LAST-MODIFIED:20221027T070757Z
UID:72785-1666828800-1666828800@www.usim.edu.my
SUMMARY:Kunjungan Hormat Unit Keusahawanan Digital\, Malaysia Digital Economy Corporation (MDEC) Ke USIM
DESCRIPTION:
URL:https://www.usim.edu.my/event/kunjungan-hormat-unit-keusahawanan-digital-malaysia-digital-economy-corporation-mdec-ke-usim/
CATEGORIES:Staff
END:VEVENT
END:VCALENDAR