BEGIN:VCALENDAR
VERSION:2.0
PRODID:-//Universiti Sains Islam Malaysia - ECPv5.16.3.1//NONSGML v1.0//EN
CALSCALE:GREGORIAN
METHOD:PUBLISH
X-WR-CALNAME:Universiti Sains Islam Malaysia
X-ORIGINAL-URL:https://www.usim.edu.my
X-WR-CALDESC:Events for Universiti Sains Islam Malaysia
BEGIN:VTIMEZONE
TZID:UTC
BEGIN:STANDARD
TZOFFSETFROM:+0000
TZOFFSETTO:+0000
TZNAME:UTC
DTSTART:20230101T000000
END:STANDARD
END:VTIMEZONE
BEGIN:VEVENT
DTSTART;TZID=UTC:20230529T150000
DTEND;TZID=UTC:20230529T170000
DTSTAMP:20260424T195155
CREATED:20230524T013751Z
LAST-MODIFIED:20230524T013834Z
UID:79058-1685372400-1685379600@www.usim.edu.my
SUMMARY:Kunjungan Ke Aurelius Healthcare Sdn. Bhd.\, Nilai
DESCRIPTION:
URL:https://www.usim.edu.my/event/kunjungan-ke-aurelius-healthcare-sdn-bhd-nilai/
LOCATION:AURELIUS HEALTHCARE SDN. BHD.\, NILAI
CATEGORIES:Staff
END:VEVENT
END:VCALENDAR