BEGIN:VCALENDAR
VERSION:2.0
PRODID:-//Universiti Sains Islam Malaysia - ECPv5.16.3.1//NONSGML v1.0//EN
CALSCALE:GREGORIAN
METHOD:PUBLISH
X-WR-CALNAME:Universiti Sains Islam Malaysia
X-ORIGINAL-URL:https://www.usim.edu.my
X-WR-CALDESC:Events for Universiti Sains Islam Malaysia
BEGIN:VTIMEZONE
TZID:Asia/Kuala_Lumpur
BEGIN:STANDARD
TZOFFSETFROM:+0800
TZOFFSETTO:+0800
TZNAME:+08
DTSTART:20220101T000000
END:STANDARD
END:VTIMEZONE
BEGIN:VEVENT
DTSTART;TZID=Asia/Kuala_Lumpur:20220329T100000
DTEND;TZID=Asia/Kuala_Lumpur:20220329T130000
DTSTAMP:20260424T072814
CREATED:20220328T014416Z
LAST-MODIFIED:20220328T014454Z
UID:67230-1648548000-1648558800@www.usim.edu.my
SUMMARY:Lawatan 'Benchmarking' daripada Kolej Universiti Islam Antarabangsa Selangor (KUIS)
DESCRIPTION:TETAMU KEHORMAT / PERASMI\n:\nPengarah PPT USIM dan Pengarah PPT KUIS
URL:https://www.usim.edu.my/event/lawatan-benchmarking-daripada-kolej-universiti-islam-antarabangsa-selangor-kuis/
LOCATION:bilik mesyuarat utama PPT
CATEGORIES:Administration,Staff
END:VEVENT
END:VCALENDAR