BEGIN:VCALENDAR
VERSION:2.0
PRODID:-//Universiti Sains Islam Malaysia - ECPv5.16.3.1//NONSGML v1.0//EN
CALSCALE:GREGORIAN
METHOD:PUBLISH
X-WR-CALNAME:Universiti Sains Islam Malaysia
X-ORIGINAL-URL:https://www.usim.edu.my
X-WR-CALDESC:Events for Universiti Sains Islam Malaysia
BEGIN:VTIMEZONE
TZID:UTC
BEGIN:STANDARD
TZOFFSETFROM:+0000
TZOFFSETTO:+0000
TZNAME:UTC
DTSTART:20220101T000000
END:STANDARD
END:VTIMEZONE
BEGIN:VEVENT
DTSTART;TZID=UTC:20220812T150000
DTEND;TZID=UTC:20220812T170000
DTSTAMP:20260422T061718
CREATED:20220811T035236Z
LAST-MODIFIED:20220811T035313Z
UID:69468-1660316400-1660323600@www.usim.edu.my
SUMMARY:Lawatan Kerja Delegasi YB Menteri Tugas-Tugas Khas Sabah Dan Delegasi Majlis Ugama Islam Sabah (MUIS)
DESCRIPTION:
URL:https://www.usim.edu.my/event/lawatan-kerja-delegasi-yb-menteri-tugas-tugas-khas-sabah-dan-delegasi-majlis-ugama-islam-sabah-muis/
LOCATION:Dewan Senat USIM
CATEGORIES:Staff
END:VEVENT
END:VCALENDAR