BEGIN:VCALENDAR
VERSION:2.0
PRODID:-//Universiti Sains Islam Malaysia - ECPv5.16.3.1//NONSGML v1.0//EN
CALSCALE:GREGORIAN
METHOD:PUBLISH
X-WR-CALNAME:Universiti Sains Islam Malaysia
X-ORIGINAL-URL:https://www.usim.edu.my
X-WR-CALDESC:Events for Universiti Sains Islam Malaysia
BEGIN:VTIMEZONE
TZID:UTC
BEGIN:STANDARD
TZOFFSETFROM:+0000
TZOFFSETTO:+0000
TZNAME:UTC
DTSTART:20240101T000000
END:STANDARD
END:VTIMEZONE
BEGIN:VEVENT
DTSTART;TZID=UTC:20240718T113000
DTEND;TZID=UTC:20240718T123000
DTSTAMP:20260422T075508
CREATED:20240718T031131Z
LAST-MODIFIED:20240718T031238Z
UID:97674-1721302200-1721305800@www.usim.edu.my
SUMMARY:Lawatan UNISEL Ke SDEC
DESCRIPTION:
URL:https://www.usim.edu.my/event/lawatan-unisel-ke-sdec/
LOCATION:BILIK MESYUARAT UTAMA\, ARAS 2\, SDEC
CATEGORIES:Staff
END:VEVENT
END:VCALENDAR