BEGIN:VCALENDAR
VERSION:2.0
PRODID:-//Universiti Sains Islam Malaysia - ECPv5.16.3.1//NONSGML v1.0//EN
CALSCALE:GREGORIAN
METHOD:PUBLISH
X-WR-CALNAME:Universiti Sains Islam Malaysia
X-ORIGINAL-URL:https://www.usim.edu.my
X-WR-CALDESC:Events for Universiti Sains Islam Malaysia
BEGIN:VTIMEZONE
TZID:Asia/Kuala_Lumpur
BEGIN:STANDARD
TZOFFSETFROM:+0800
TZOFFSETTO:+0800
TZNAME:+08
DTSTART:20220101T000000
END:STANDARD
END:VTIMEZONE
BEGIN:VEVENT
DTSTART;TZID=Asia/Kuala_Lumpur:20220804T143000
DTEND;TZID=Asia/Kuala_Lumpur:20220804T170000
DTSTAMP:20260426T085314
CREATED:20220715T035132Z
LAST-MODIFIED:20220803T065239Z
UID:68262-1659623400-1659632400@www.usim.edu.my
SUMMARY:Majlis Anugerah Kecemerlangan Dan Inovasi 2021
DESCRIPTION:TETAMU KEHORMAT / PERASMI\n:\nNAIB CANSELOR
URL:https://www.usim.edu.my/event/majlis-anugerah-kecemerlangan-dan-inovasi-2021/
LOCATION:dewan tuanku canselor
CATEGORIES:Staff
END:VEVENT
END:VCALENDAR