BEGIN:VCALENDAR
VERSION:2.0
PRODID:-//Universiti Sains Islam Malaysia - ECPv5.16.3.1//NONSGML v1.0//EN
CALSCALE:GREGORIAN
METHOD:PUBLISH
X-WR-CALNAME:Universiti Sains Islam Malaysia
X-ORIGINAL-URL:https://www.usim.edu.my
X-WR-CALDESC:Events for Universiti Sains Islam Malaysia
BEGIN:VTIMEZONE
TZID:UTC
BEGIN:STANDARD
TZOFFSETFROM:+0000
TZOFFSETTO:+0000
TZNAME:UTC
DTSTART:20240101T000000
END:STANDARD
END:VTIMEZONE
BEGIN:VEVENT
DTSTART;TZID=UTC:20240813T140000
DTEND;TZID=UTC:20240813T170000
DTSTAMP:20260422T001437
CREATED:20240805T081412Z
LAST-MODIFIED:20240805T081808Z
UID:97818-1723557600-1723568400@www.usim.edu.my
SUMMARY:Majlis Anugerah Kecemerlangan Dan Inovasi (AKI) 2023
DESCRIPTION:
URL:https://www.usim.edu.my/event/majlis-anugerah-kecemerlangan-dan-inovasi-aki-2023/
LOCATION:Dewan Tuanku Canselor USIM
CATEGORIES:Staff
END:VEVENT
END:VCALENDAR